BEGIN:VCALENDAR
VERSION:2.0
PRODID:-//PECHS Girls&#039; School - ECPv6.6.3//NONSGML v1.0//EN
CALSCALE:GREGORIAN
METHOD:PUBLISH
X-WR-CALNAME:PECHS Girls&#039; School
X-ORIGINAL-URL:https://pechsgs.edu.pk
X-WR-CALDESC:Events for PECHS Girls&#039; School
REFRESH-INTERVAL;VALUE=DURATION:PT1H
X-Robots-Tag:noindex
X-PUBLISHED-TTL:PT1H
BEGIN:VTIMEZONE
TZID:Asia/Karachi
BEGIN:STANDARD
TZOFFSETFROM:+0500
TZOFFSETTO:+0500
TZNAME:PKT
DTSTART:20240101T000000
END:STANDARD
END:VTIMEZONE
BEGIN:VEVENT
DTSTART;VALUE=DATE:20241003
DTEND;VALUE=DATE:20241004
DTSTAMP:20260420T021518
CREATED:20240923T043728Z
LAST-MODIFIED:20240923T043728Z
UID:10000047-1727913600-1727999999@pechsgs.edu.pk
SUMMARY:Year 1 - 10 | Online and Self Study Day
DESCRIPTION:
URL:https://pechsgs.edu.pk/event/year-1-10-online-and-self-study-day/
END:VEVENT
BEGIN:VEVENT
DTSTART;VALUE=DATE:20241005
DTEND;VALUE=DATE:20241006
DTSTAMP:20260420T021518
CREATED:20240923T043842Z
LAST-MODIFIED:20240923T043842Z
UID:10000048-1728086400-1728172799@pechsgs.edu.pk
SUMMARY:Year 1 - 10 | First Parent Teacher Meeting
DESCRIPTION:
URL:https://pechsgs.edu.pk/event/year-1-10-first-parent-teacher-meeting/2024-10-05/
END:VEVENT
END:VCALENDAR