BEGIN:VCALENDAR
VERSION:2.0
PRODID:-//PECHS Girls&#039; School - ECPv6.6.3//NONSGML v1.0//EN
CALSCALE:GREGORIAN
METHOD:PUBLISH
X-ORIGINAL-URL:https://pechsgs.edu.pk
X-WR-CALDESC:Events for PECHS Girls&#039; School
REFRESH-INTERVAL;VALUE=DURATION:PT1H
X-Robots-Tag:noindex
X-PUBLISHED-TTL:PT1H
BEGIN:VTIMEZONE
TZID:Asia/Karachi
BEGIN:STANDARD
TZOFFSETFROM:+0500
TZOFFSETTO:+0500
TZNAME:PKT
DTSTART:20240101T000000
END:STANDARD
END:VTIMEZONE
BEGIN:VEVENT
DTSTART;VALUE=DATE:20240917
DTEND;VALUE=DATE:20240918
DTSTAMP:20260418T153634
CREATED:20240919T032839Z
LAST-MODIFIED:20240919T032839Z
UID:10000042-1726531200-1726617599@pechsgs.edu.pk
SUMMARY:Years 1 - 10 | Public Holiday 12 Rabbi Ul Awwal
DESCRIPTION:
URL:https://pechsgs.edu.pk/event/years-1-10-public-holiday-12-rabbi-ul-awwal/
END:VEVENT
BEGIN:VEVENT
DTSTART;VALUE=DATE:20240918
DTEND;VALUE=DATE:20240927
DTSTAMP:20260418T153634
CREATED:20240919T032906Z
LAST-MODIFIED:20240919T032906Z
UID:10000043-1726617600-1727395199@pechsgs.edu.pk
SUMMARY:Years 8 -10 | First Assessment
DESCRIPTION:
URL:https://pechsgs.edu.pk/event/years-8-10-first-assessment/
END:VEVENT
BEGIN:VEVENT
DTSTART;VALUE=DATE:20240921
DTEND;VALUE=DATE:20240922
DTSTAMP:20260418T153634
CREATED:20240919T032925Z
LAST-MODIFIED:20240919T032925Z
UID:10000044-1726876800-1726963199@pechsgs.edu.pk
SUMMARY:Teaching Faculty | Continuous Professional Development
DESCRIPTION:
URL:https://pechsgs.edu.pk/event/teaching-faculty-continuous-professional-development/
END:VEVENT
END:VCALENDAR