BEGIN:VCALENDAR
VERSION:2.0
PRODID:-//PECHS Girls&#039; School - ECPv6.6.3//NONSGML v1.0//EN
CALSCALE:GREGORIAN
METHOD:PUBLISH
X-ORIGINAL-URL:https://pechsgs.edu.pk
X-WR-CALDESC:Events for PECHS Girls&#039; School
REFRESH-INTERVAL;VALUE=DURATION:PT1H
X-Robots-Tag:noindex
X-PUBLISHED-TTL:PT1H
BEGIN:VTIMEZONE
TZID:Asia/Karachi
BEGIN:STANDARD
TZOFFSETFROM:+0500
TZOFFSETTO:+0500
TZNAME:PKT
DTSTART:20240101T000000
END:STANDARD
END:VTIMEZONE
BEGIN:VEVENT
DTSTART;VALUE=DATE:20240819
DTEND;VALUE=DATE:20240908
DTSTAMP:20260418T160319
CREATED:20240718T221657Z
LAST-MODIFIED:20240725T003054Z
UID:10000037-1724043600-1725685199@pechsgs.edu.pk
SUMMARY:Year 10 | Council Elections
DESCRIPTION:
URL:https://pechsgs.edu.pk/event/year-10-council-elections/
END:VEVENT
BEGIN:VEVENT
DTSTART;VALUE=DATE:20240820
DTEND;VALUE=DATE:20240822
DTSTAMP:20260418T160319
CREATED:20240718T221735Z
LAST-MODIFIED:20240718T221735Z
UID:10000039-1724130000-1724216399@pechsgs.edu.pk
SUMMARY:Years 1 - 5 | House Assembly
DESCRIPTION:
URL:https://pechsgs.edu.pk/event/years-1-5-house-assembly/
END:VEVENT
BEGIN:VEVENT
DTSTART;VALUE=DATE:20240821
DTEND;VALUE=DATE:20240823
DTSTAMP:20260418T160319
CREATED:20240718T221755Z
LAST-MODIFIED:20240718T221755Z
UID:10000040-1724216400-1724302799@pechsgs.edu.pk
SUMMARY:Years 6 - 10 | House Assembly
DESCRIPTION:
URL:https://pechsgs.edu.pk/event/years-6-10-house-assembly/
END:VEVENT
END:VCALENDAR