BEGIN:VCALENDAR
VERSION:2.0
PRODID:-//PECHS Girls&#039; School - ECPv6.6.3//NONSGML v1.0//EN
CALSCALE:GREGORIAN
METHOD:PUBLISH
X-WR-CALNAME:PECHS Girls&#039; School
X-ORIGINAL-URL:https://pechsgs.edu.pk
X-WR-CALDESC:Events for PECHS Girls&#039; School
REFRESH-INTERVAL;VALUE=DURATION:PT1H
X-Robots-Tag:noindex
X-PUBLISHED-TTL:PT1H
BEGIN:VTIMEZONE
TZID:Asia/Karachi
BEGIN:STANDARD
TZOFFSETFROM:+0500
TZOFFSETTO:+0500
TZNAME:PKT
DTSTART:20240101T000000
END:STANDARD
END:VTIMEZONE
BEGIN:VEVENT
DTSTART;VALUE=DATE:20241030
DTEND;VALUE=DATE:20241031
DTSTAMP:20260419T230041
CREATED:20240923T044303Z
LAST-MODIFIED:20240923T044446Z
UID:10000052-1730246400-1730332799@pechsgs.edu.pk
SUMMARY:Year 4 - 10 | Debate and Panel Discussion
DESCRIPTION:
URL:https://pechsgs.edu.pk/event/year-1-10-debate-and-panel-discussion/
END:VEVENT
BEGIN:VEVENT
DTSTART;VALUE=DATE:20241104
DTEND;VALUE=DATE:20241106
DTSTAMP:20260419T230041
CREATED:20240923T044637Z
LAST-MODIFIED:20241115T121036Z
UID:10000053-1730678400-1730851199@pechsgs.edu.pk
SUMMARY:Year 1 - 5 | Open House
DESCRIPTION:
URL:https://pechsgs.edu.pk/event/year-1-5-open-house/2024-11-04/
END:VEVENT
BEGIN:VEVENT
DTSTART;VALUE=DATE:20241106
DTEND;VALUE=DATE:20241107
DTSTAMP:20260419T230041
CREATED:20240923T044725Z
LAST-MODIFIED:20240923T044725Z
UID:10000056-1730851200-1730937599@pechsgs.edu.pk
SUMMARY:Year 1 - 10 | Online and Self Study Day
DESCRIPTION:
URL:https://pechsgs.edu.pk/event/year-1-10-online-and-self-study-day-2/
END:VEVENT
BEGIN:VEVENT
DTSTART;VALUE=DATE:20241107
DTEND;VALUE=DATE:20241108
DTSTAMP:20260419T230041
CREATED:20240923T044637Z
LAST-MODIFIED:20241115T121036Z
UID:10000054-1730966400-1730998800@pechsgs.edu.pk
SUMMARY:Year 1 - 5 | Open House
DESCRIPTION:
URL:https://pechsgs.edu.pk/event/year-1-5-open-house/2024-11-07/
END:VEVENT
BEGIN:VEVENT
DTSTART;VALUE=DATE:20241113
DTEND;VALUE=DATE:20241115
DTSTAMP:20260419T230041
CREATED:20240923T044840Z
LAST-MODIFIED:20240923T044840Z
UID:10000057-1731456000-1731628799@pechsgs.edu.pk
SUMMARY:Year 1 - 10 | In-Class Theatre
DESCRIPTION:
URL:https://pechsgs.edu.pk/event/year-1-10-in-class-theatre/2024-11-13/
END:VEVENT
BEGIN:VEVENT
DTSTART;VALUE=DATE:20241120
DTEND;VALUE=DATE:20241121
DTSTAMP:20260419T230041
CREATED:20240923T045259Z
LAST-MODIFIED:20240923T045307Z
UID:10000060-1732060800-1732147199@pechsgs.edu.pk
SUMMARY:Year 9 & 10 | Council Event
DESCRIPTION:
URL:https://pechsgs.edu.pk/event/year-9-10-council-event/
END:VEVENT
END:VCALENDAR