BEGIN:VCALENDAR
VERSION:2.0
PRODID:-//PECHS Girls&#039; School - ECPv6.6.3//NONSGML v1.0//EN
CALSCALE:GREGORIAN
METHOD:PUBLISH
X-WR-CALNAME:PECHS Girls&#039; School
X-ORIGINAL-URL:https://pechsgs.edu.pk
X-WR-CALDESC:Events for PECHS Girls&#039; School
REFRESH-INTERVAL;VALUE=DURATION:PT1H
X-Robots-Tag:noindex
X-PUBLISHED-TTL:PT1H
BEGIN:VTIMEZONE
TZID:Asia/Karachi
BEGIN:STANDARD
TZOFFSETFROM:+0500
TZOFFSETTO:+0500
TZNAME:PKT
DTSTART:20250101T000000
END:STANDARD
END:VTIMEZONE
BEGIN:VEVENT
DTSTART;VALUE=DATE:20250508
DTEND;VALUE=DATE:20250517
DTSTAMP:20260421T063205
CREATED:20250502T031222Z
LAST-MODIFIED:20250502T031222Z
UID:10000117-1746662400-1747439999@pechsgs.edu.pk
SUMMARY:Years 6 - 8 | Final Examination
DESCRIPTION:
URL:https://pechsgs.edu.pk/event/years-6-8-final-examination/
END:VEVENT
BEGIN:VEVENT
DTSTART;VALUE=DATE:20250509
DTEND;VALUE=DATE:20250517
DTSTAMP:20260421T063205
CREATED:20250502T031245Z
LAST-MODIFIED:20250502T031245Z
UID:10000118-1746748800-1747439999@pechsgs.edu.pk
SUMMARY:Years 4 & 5 | Final Examination
DESCRIPTION:
URL:https://pechsgs.edu.pk/event/years-4-5-final-examination/
END:VEVENT
BEGIN:VEVENT
DTSTART;VALUE=DATE:20250516
DTEND;VALUE=DATE:20250517
DTSTAMP:20260421T063205
CREATED:20250502T031305Z
LAST-MODIFIED:20250502T031305Z
UID:10000119-1747353600-1747439999@pechsgs.edu.pk
SUMMARY:Last Working Day for the Children
DESCRIPTION:
URL:https://pechsgs.edu.pk/event/last-working-day-for-the-children/
END:VEVENT
BEGIN:VEVENT
DTSTART;VALUE=DATE:20250529
DTEND;VALUE=DATE:20250530
DTSTAMP:20260421T063205
CREATED:20250502T031326Z
LAST-MODIFIED:20250502T031326Z
UID:10000120-1748476800-1748563199@pechsgs.edu.pk
SUMMARY:Years 1 - 8 | Result Day
DESCRIPTION:
URL:https://pechsgs.edu.pk/event/years-1-8-result-day-2/
END:VEVENT
BEGIN:VEVENT
DTSTART;VALUE=DATE:20250530
DTEND;VALUE=DATE:20250531
DTSTAMP:20260421T063205
CREATED:20250502T031347Z
LAST-MODIFIED:20250502T031347Z
UID:10000121-1748563200-1748649599@pechsgs.edu.pk
SUMMARY:Teaching Faculty | Last Working Day
DESCRIPTION:
URL:https://pechsgs.edu.pk/event/teaching-faculty-last-working-day/
END:VEVENT
BEGIN:VEVENT
DTSTART;VALUE=DATE:20250804
DTEND;VALUE=DATE:20250805
DTSTAMP:20260421T063205
CREATED:20250804T023806Z
LAST-MODIFIED:20250804T023806Z
UID:10000127-1754265600-1754351999@pechsgs.edu.pk
SUMMARY:Years 2 - 10 | First Day of School
DESCRIPTION:
URL:https://pechsgs.edu.pk/event/years-2-10-first-day-of-school/
END:VEVENT
BEGIN:VEVENT
DTSTART;VALUE=DATE:20250805
DTEND;VALUE=DATE:20250806
DTSTAMP:20260421T063205
CREATED:20250804T023604Z
LAST-MODIFIED:20250804T023604Z
UID:10000122-1754352000-1754438399@pechsgs.edu.pk
SUMMARY:Year 1 | Orientation
DESCRIPTION:
URL:https://pechsgs.edu.pk/event/year-1-orientation/
END:VEVENT
BEGIN:VEVENT
DTSTART;VALUE=DATE:20250806
DTEND;VALUE=DATE:20250807
DTSTAMP:20260421T063205
CREATED:20250804T023830Z
LAST-MODIFIED:20250804T023830Z
UID:10000128-1754438400-1754524799@pechsgs.edu.pk
SUMMARY:Year 1 | First Day of School
DESCRIPTION:
URL:https://pechsgs.edu.pk/event/year-1-first-day-of-school/
END:VEVENT
BEGIN:VEVENT
DTSTART;VALUE=DATE:20250807
DTEND;VALUE=DATE:20250808
DTSTAMP:20260421T063205
CREATED:20250804T023745Z
LAST-MODIFIED:20250804T023745Z
UID:10000126-1754524800-1754611199@pechsgs.edu.pk
SUMMARY:Year 10 | Orientation
DESCRIPTION:
URL:https://pechsgs.edu.pk/event/year-10-orientation/
END:VEVENT
BEGIN:VEVENT
DTSTART;VALUE=DATE:20250808
DTEND;VALUE=DATE:20250809
DTSTAMP:20260421T063205
CREATED:20250804T023718Z
LAST-MODIFIED:20250804T023718Z
UID:10000125-1754611200-1754697599@pechsgs.edu.pk
SUMMARY:Year 9 | Orientation
DESCRIPTION:
URL:https://pechsgs.edu.pk/event/year-9-orientation/
END:VEVENT
END:VCALENDAR