BEGIN:VCALENDAR
VERSION:2.0
PRODID:-//PECHS Girls&#039; School - ECPv6.6.3//NONSGML v1.0//EN
CALSCALE:GREGORIAN
METHOD:PUBLISH
X-WR-CALNAME:PECHS Girls&#039; School
X-ORIGINAL-URL:https://pechsgs.edu.pk
X-WR-CALDESC:Events for PECHS Girls&#039; School
REFRESH-INTERVAL;VALUE=DURATION:PT1H
X-Robots-Tag:noindex
X-PUBLISHED-TTL:PT1H
BEGIN:VTIMEZONE
TZID:Asia/Karachi
BEGIN:STANDARD
TZOFFSETFROM:+0500
TZOFFSETTO:+0500
TZNAME:PKT
DTSTART:20230101T000000
END:STANDARD
END:VTIMEZONE
BEGIN:VEVENT
DTSTART;VALUE=DATE:20231014
DTEND;VALUE=DATE:20231015
DTSTAMP:20260419T181640
CREATED:20231010T234322Z
LAST-MODIFIED:20231010T234322Z
UID:10000004-1697241600-1697327999@pechsgs.edu.pk
SUMMARY:Years 1 – 10 | First Parent Teacher Meeting
DESCRIPTION:
URL:https://pechsgs.edu.pk/event/years-1-10-first-parent-teacher-meeting-2/
END:VEVENT
BEGIN:VEVENT
DTSTART;VALUE=DATE:20231012
DTEND;VALUE=DATE:20231013
DTSTAMP:20260419T181640
CREATED:20231010T234359Z
LAST-MODIFIED:20231010T234359Z
UID:10000005-1697068800-1697155199@pechsgs.edu.pk
SUMMARY:Years 5 – 10 | Debate and Panel Discussion
DESCRIPTION:
URL:https://pechsgs.edu.pk/event/years-5-10-debate-and-panel-discussion/
END:VEVENT
BEGIN:VEVENT
DTSTART;VALUE=DATE:20231007
DTEND;VALUE=DATE:20231008
DTSTAMP:20260419T181640
CREATED:20231010T234206Z
LAST-MODIFIED:20231010T234206Z
UID:10000003-1696636800-1696723199@pechsgs.edu.pk
SUMMARY:Years 1 – 10 | First Parent Teacher Meeting
DESCRIPTION:
URL:https://pechsgs.edu.pk/event/years-1-10-first-parent-teacher-meeting/
END:VEVENT
BEGIN:VEVENT
DTSTART;VALUE=DATE:20231005
DTEND;VALUE=DATE:20231007
DTSTAMP:20260419T181640
CREATED:20231010T234123Z
LAST-MODIFIED:20231010T234123Z
UID:10000002-1696482000-1696568399@pechsgs.edu.pk
SUMMARY:Faculty SEL Training Day
DESCRIPTION:
URL:https://pechsgs.edu.pk/event/faculty-sel-training-day/
END:VEVENT
BEGIN:VEVENT
DTSTART;VALUE=DATE:20231005
DTEND;VALUE=DATE:20231007
DTSTAMP:20260419T181640
CREATED:20231010T233908Z
LAST-MODIFIED:20231010T233908Z
UID:10000001-1696482000-1696568399@pechsgs.edu.pk
SUMMARY:Years 1 – 10 | Online & Self Study Day
DESCRIPTION:
URL:https://pechsgs.edu.pk/event/years-1-10-online-self-study-day/
END:VEVENT
END:VCALENDAR