BEGIN:VCALENDAR
VERSION:2.0
PRODID:-//PECHS Girls&#039; School - ECPv6.6.3//NONSGML v1.0//EN
CALSCALE:GREGORIAN
METHOD:PUBLISH
X-ORIGINAL-URL:https://pechsgs.edu.pk
X-WR-CALDESC:Events for PECHS Girls&#039; School
REFRESH-INTERVAL;VALUE=DURATION:PT1H
X-Robots-Tag:noindex
X-PUBLISHED-TTL:PT1H
BEGIN:VTIMEZONE
TZID:Asia/Karachi
BEGIN:STANDARD
TZOFFSETFROM:+0500
TZOFFSETTO:+0500
TZNAME:PKT
DTSTART:20240101T000000
END:STANDARD
END:VTIMEZONE
BEGIN:VEVENT
DTSTART;VALUE=DATE:20240817
DTEND;VALUE=DATE:20240819
DTSTAMP:20260413T190855
CREATED:20240718T221606Z
LAST-MODIFIED:20240725T003024Z
UID:10000036-1723870800-1723957199@pechsgs.edu.pk
SUMMARY:Year 8 | Orientation Session for Parents & Students
DESCRIPTION:
URL:https://pechsgs.edu.pk/event/year-8-orientation-session-for-parents-students/
END:VEVENT
END:VCALENDAR