BEGIN:VCALENDAR
VERSION:2.0
PRODID:-//PECHS Girls&#039; School - ECPv6.6.3//NONSGML v1.0//EN
CALSCALE:GREGORIAN
METHOD:PUBLISH
X-ORIGINAL-URL:https://pechsgs.edu.pk
X-WR-CALDESC:Events for PECHS Girls&#039; School
REFRESH-INTERVAL;VALUE=DURATION:PT1H
X-Robots-Tag:noindex
X-PUBLISHED-TTL:PT1H
BEGIN:VTIMEZONE
TZID:Asia/Karachi
BEGIN:STANDARD
TZOFFSETFROM:+0500
TZOFFSETTO:+0500
TZNAME:PKT
DTSTART:20240101T000000
END:STANDARD
END:VTIMEZONE
BEGIN:VEVENT
DTSTART;VALUE=DATE:20240814
DTEND;VALUE=DATE:20240816
DTSTAMP:20260420T111815
CREATED:20240718T221446Z
LAST-MODIFIED:20240725T012923Z
UID:10000032-1723611600-1723697999@pechsgs.edu.pk
SUMMARY:Years 2 - 10 | School Reopening (Independence Day Celebration only)
DESCRIPTION:
URL:https://pechsgs.edu.pk/event/years-2-10-school-reopening/
END:VEVENT
BEGIN:VEVENT
DTSTART;VALUE=DATE:20240815
DTEND;VALUE=DATE:20240817
DTSTAMP:20260420T111815
CREATED:20240718T221509Z
LAST-MODIFIED:20240725T002933Z
UID:10000033-1723698000-1723784399@pechsgs.edu.pk
SUMMARY:Year 1 | School Reopening
DESCRIPTION:
URL:https://pechsgs.edu.pk/event/year-1-school-reopening/
END:VEVENT
BEGIN:VEVENT
DTSTART;VALUE=DATE:20240815
DTEND;VALUE=DATE:20240817
DTSTAMP:20260420T111815
CREATED:20240718T221548Z
LAST-MODIFIED:20240725T003008Z
UID:10000035-1723698000-1723784399@pechsgs.edu.pk
SUMMARY:Year 10 | Orientation Session for Students
DESCRIPTION:
URL:https://pechsgs.edu.pk/event/year-10-orientation-session-for-students/
END:VEVENT
END:VCALENDAR